BEGIN:VCALENDAR
VERSION:2.0
PRODID:-//QUFA - ECPv6.15.20//NONSGML v1.0//EN
CALSCALE:GREGORIAN
METHOD:PUBLISH
X-ORIGINAL-URL:https://qufa.ca
X-WR-CALDESC:Events for QUFA
REFRESH-INTERVAL;VALUE=DURATION:PT1H
X-Robots-Tag:noindex
X-PUBLISHED-TTL:PT1H
BEGIN:VTIMEZONE
TZID:UTC
BEGIN:STANDARD
TZOFFSETFROM:+0000
TZOFFSETTO:+0000
TZNAME:UTC
DTSTART:20230101T000000
END:STANDARD
END:VTIMEZONE
BEGIN:VEVENT
DTSTART;TZID=UTC:20241203T160000
DTEND;TZID=UTC:20241203T180000
DTSTAMP:20260423T184457
CREATED:20241129T144328Z
LAST-MODIFIED:20241129T144328Z
UID:2015-1733241600-1733248800@qufa.ca
SUMMARY:BIPOC Caucus Social
DESCRIPTION:Please join us for a QUFA BIPOC Caucus social on December 3 at 4pm at the University Club.
URL:https://qufa.ca/event/bipoc-caucus-social/
END:VEVENT
BEGIN:VEVENT
DTSTART;TZID=UTC:20241204T100000
DTEND;TZID=UTC:20241204T113000
DTSTAMP:20260423T184457
CREATED:20241128T171823Z
LAST-MODIFIED:20241129T131113Z
UID:2008-1733306400-1733311800@qufa.ca
SUMMARY:QUFA Lecture Series - Divesting from Austerity: Solidarity and Equity in Labor Struggles
DESCRIPTION:The first panel of the miniseries Divesting from Austerity: Solidarity and Equity in Labor Struggles will take place on Dec 4th\, from 10:00-11:30 am online. \nThis panel will explore how students\, faculty\, and staff engage in various but related labor struggles in the university and how they are connected to equity issues. We will discuss multiple strategies of labor resistance such as campaigns\, strikes and divestment —particularly from exploitative industries and war-driven technology\, and —to challenge austerity-driven university administrations. This session will highlight the power of labor resistance in forging connections across diverse communities\, fostering a unified front against austerity. Panelists: Students vs Cuts\, Ayça Tomaç\, Winnie Ng\, Sailaja Krishnamurti Moderation: Melissa Houghtaling. \nPlease RSVP to Elizabeth Polnicky at ep43@queensu.ca for the Zoom link.
URL:https://qufa.ca/event/qufa-lecture-series-divesting-from-austerity-solidarity-and-equity-in-labor-struggles/
ATTACH;FMTTYPE=image/png:https://qufa.ca/wp-content/uploads/2024/11/div-aust.png
END:VEVENT
BEGIN:VEVENT
DTSTART;TZID=UTC:20241218T130000
DTEND;TZID=UTC:20241218T150000
DTSTAMP:20260423T184457
CREATED:20241119T185826Z
LAST-MODIFIED:20241119T185942Z
UID:1982-1734526800-1734534000@qufa.ca
SUMMARY:QUFA Fall General Meeting (FGM)
DESCRIPTION:2024 FGM Details \nThe QUFA Fall General Meeting will be held on Wednesday December 18\, 2024 from 1:00pm – 3:00pm via Zoom. \nPlease RSVP to Elizabeth Polnicky at ep43@queensu.ca to receive the Zoom link. \nIn accordance with the QUFA Constitution\, you will receive an official notice of the meeting 2 weeks prior to the meeting\, and a full agenda package one week prior.
URL:https://qufa.ca/event/qufa-fall-general-meeting-fgm/
END:VEVENT
END:VCALENDAR