BEGIN:VCALENDAR
VERSION:2.0
PRODID:-//QUFA - ECPv6.15.20//NONSGML v1.0//EN
CALSCALE:GREGORIAN
METHOD:PUBLISH
X-WR-CALNAME:QUFA
X-ORIGINAL-URL:https://qufa.ca
X-WR-CALDESC:Events for QUFA
REFRESH-INTERVAL;VALUE=DURATION:PT1H
X-Robots-Tag:noindex
X-PUBLISHED-TTL:PT1H
BEGIN:VTIMEZONE
TZID:UTC
BEGIN:STANDARD
TZOFFSETFROM:+0000
TZOFFSETTO:+0000
TZNAME:UTC
DTSTART:20230101T000000
END:STANDARD
END:VTIMEZONE
BEGIN:VEVENT
DTSTART;TZID=UTC:20241101T080000
DTEND;TZID=UTC:20241101T170000
DTSTAMP:20260423T202552
CREATED:20240729T180251Z
LAST-MODIFIED:20240729T180251Z
UID:1750-1730448000-1730480400@qufa.ca
SUMMARY:Tuition Support Plan Deadline
DESCRIPTION:The fall submission window is September 1 – November 1\, 2024. See Appendix N of the Collective Agreement and click here for the application form: https://queensuca.sharepoint.com/sites/HR-employees/SitePages/Tuition-Support-Plan.aspx
URL:https://qufa.ca/event/tuition-support-plan-deadline-2/
END:VEVENT
END:VCALENDAR