BEGIN:VCALENDAR
VERSION:2.0
PRODID:-//QUFA - ECPv6.15.20//NONSGML v1.0//EN
CALSCALE:GREGORIAN
METHOD:PUBLISH
X-WR-CALNAME:QUFA
X-ORIGINAL-URL:https://qufa.ca
X-WR-CALDESC:Events for QUFA
REFRESH-INTERVAL;VALUE=DURATION:PT1H
X-Robots-Tag:noindex
X-PUBLISHED-TTL:PT1H
BEGIN:VTIMEZONE
TZID:UTC
BEGIN:STANDARD
TZOFFSETFROM:+0000
TZOFFSETTO:+0000
TZNAME:UTC
DTSTART:20240101T000000
END:STANDARD
END:VTIMEZONE
BEGIN:VEVENT
DTSTART;TZID=UTC:20250228T080000
DTEND;TZID=UTC:20250228T170000
DTSTAMP:20260423T153332
CREATED:20241220T205924Z
LAST-MODIFIED:20241220T210307Z
UID:2027-1740729600-1740762000@qufa.ca
SUMMARY:Tuition Support Plan Deadline
DESCRIPTION:The winter submission window is January 1 to February 28\, 2025. See Appendix N of the Collective Agreement and click here for the application form.
URL:https://qufa.ca/event/tuition-support-plan-deadline-3/
END:VEVENT
END:VCALENDAR