BEGIN:VCALENDAR
VERSION:2.0
PRODID:-//QUFA - ECPv6.15.20//NONSGML v1.0//EN
CALSCALE:GREGORIAN
METHOD:PUBLISH
X-ORIGINAL-URL:https://qufa.ca
X-WR-CALDESC:Events for QUFA
REFRESH-INTERVAL;VALUE=DURATION:PT1H
X-Robots-Tag:noindex
X-PUBLISHED-TTL:PT1H
BEGIN:VTIMEZONE
TZID:UTC
BEGIN:STANDARD
TZOFFSETFROM:+0000
TZOFFSETTO:+0000
TZNAME:UTC
DTSTART:20240101T000000
END:STANDARD
END:VTIMEZONE
BEGIN:VEVENT
DTSTART;TZID=UTC:20250203T080000
DTEND;TZID=UTC:20250203T170000
DTSTAMP:20260423T171059
CREATED:20250113T153910Z
LAST-MODIFIED:20250113T153910Z
UID:2041-1738569600-1738602000@qufa.ca
SUMMARY:Fund for Scholarly Research and Creative Work and Professional Development (Adjuncts)
DESCRIPTION:The Winter deadline for the Fund for Scholarly Research and Creative Work and Professional Development (Adjuncts) is Feb. 3. Please visit the Queen’s website for the application and more information: https://www.queensu.ca/facultyrelations/qufa/research-fund
URL:https://qufa.ca/event/fund-for-scholarly-research-and-creative-work-and-professional-development-adjuncts/
END:VEVENT
END:VCALENDAR