BEGIN:VCALENDAR
VERSION:2.0
PRODID:-//QUFA - ECPv6.15.20//NONSGML v1.0//EN
CALSCALE:GREGORIAN
METHOD:PUBLISH
X-ORIGINAL-URL:https://qufa.ca
X-WR-CALDESC:Events for QUFA
REFRESH-INTERVAL;VALUE=DURATION:PT1H
X-Robots-Tag:noindex
X-PUBLISHED-TTL:PT1H
BEGIN:VTIMEZONE
TZID:UTC
BEGIN:STANDARD
TZOFFSETFROM:+0000
TZOFFSETTO:+0000
TZNAME:UTC
DTSTART:20230101T000000
END:STANDARD
END:VTIMEZONE
BEGIN:VEVENT
DTSTART;TZID=UTC:20241218T130000
DTEND;TZID=UTC:20241218T150000
DTSTAMP:20260423T202842
CREATED:20241119T185826Z
LAST-MODIFIED:20241119T185942Z
UID:1982-1734526800-1734534000@qufa.ca
SUMMARY:QUFA Fall General Meeting (FGM)
DESCRIPTION:2024 FGM Details \nThe QUFA Fall General Meeting will be held on Wednesday December 18\, 2024 from 1:00pm – 3:00pm via Zoom. \nPlease RSVP to Elizabeth Polnicky at ep43@queensu.ca to receive the Zoom link. \nIn accordance with the QUFA Constitution\, you will receive an official notice of the meeting 2 weeks prior to the meeting\, and a full agenda package one week prior.
URL:https://qufa.ca/event/qufa-fall-general-meeting-fgm/
END:VEVENT
END:VCALENDAR