BEGIN:VCALENDAR
VERSION:2.0
PRODID:-//QUFA - ECPv6.15.20//NONSGML v1.0//EN
CALSCALE:GREGORIAN
METHOD:PUBLISH
X-ORIGINAL-URL:https://qufa.ca
X-WR-CALDESC:Events for QUFA
REFRESH-INTERVAL;VALUE=DURATION:PT1H
X-Robots-Tag:noindex
X-PUBLISHED-TTL:PT1H
BEGIN:VTIMEZONE
TZID:UTC
BEGIN:STANDARD
TZOFFSETFROM:+0000
TZOFFSETTO:+0000
TZNAME:UTC
DTSTART:20230101T000000
END:STANDARD
END:VTIMEZONE
BEGIN:VEVENT
DTSTART;TZID=UTC:20240917T120000
DTEND;TZID=UTC:20240917T133000
DTSTAMP:20260426T021535
CREATED:20240712T132528Z
LAST-MODIFIED:20240712T132617Z
UID:1697-1726574400-1726579800@qufa.ca
SUMMARY:Adjunct Rights Lunch & Learn
DESCRIPTION:Please join us for a Lunch & Learn about Adjunct Rights. Ask questions\, learn about your role as an Adjunct member\, and connect with colleagues. Tuesday September 17\, noon at the University Club (168 Stuart St.).
URL:https://qufa.ca/event/adjunct-rights-lunch-learn/
ATTACH;FMTTYPE=image/png:https://qufa.ca/wp-content/uploads/2024/07/Adjunct_Rights-2024.png
END:VEVENT
END:VCALENDAR