BEGIN:VCALENDAR
VERSION:2.0
PRODID:-//QUFA - ECPv6.15.20//NONSGML v1.0//EN
CALSCALE:GREGORIAN
METHOD:PUBLISH
X-ORIGINAL-URL:https://qufa.ca
X-WR-CALDESC:Events for QUFA
REFRESH-INTERVAL;VALUE=DURATION:PT1H
X-Robots-Tag:noindex
X-PUBLISHED-TTL:PT1H
BEGIN:VTIMEZONE
TZID:UTC
BEGIN:STANDARD
TZOFFSETFROM:+0000
TZOFFSETTO:+0000
TZNAME:UTC
DTSTART:20230101T000000
END:STANDARD
END:VTIMEZONE
BEGIN:VEVENT
DTSTART;TZID=UTC:20240906T160000
DTEND;TZID=UTC:20240906T180000
DTSTAMP:20260426T021434
CREATED:20240813T190440Z
LAST-MODIFIED:20240813T190440Z
UID:1796-1725638400-1725645600@qufa.ca
SUMMARY:New Member Quaff
DESCRIPTION:New Faculty\, Librarian\, and Archivist Members (hired within the past 5 years) are invited to join QUFA for a social to kick of the new academic year. Friday Sept. 6 from 4-6pm at the University Club (Main Bar and Patio).
URL:https://qufa.ca/event/new-member-quaff/
LOCATION:University Club\, 168 Stuart St.\, Kingston
ATTACH;FMTTYPE=image/png:https://qufa.ca/wp-content/uploads/2024/08/NFQ-2024.png
END:VEVENT
END:VCALENDAR